BEGIN:VCALENDAR
VERSION:2.0
PRODID:-//Headwaters Crafthouse - ECPv6.2.3.2//NONSGML v1.0//EN
CALSCALE:GREGORIAN
METHOD:PUBLISH
X-ORIGINAL-URL:https://headwaterscrafthouse.com
X-WR-CALDESC:Events for Headwaters Crafthouse
REFRESH-INTERVAL;VALUE=DURATION:PT1H
X-Robots-Tag:noindex
X-PUBLISHED-TTL:PT1H
BEGIN:VTIMEZONE
TZID:America/Denver
BEGIN:DAYLIGHT
TZOFFSETFROM:-0700
TZOFFSETTO:-0600
TZNAME:MDT
DTSTART:20240310T090000
END:DAYLIGHT
BEGIN:STANDARD
TZOFFSETFROM:-0600
TZOFFSETTO:-0700
TZNAME:MST
DTSTART:20241103T080000
END:STANDARD
BEGIN:DAYLIGHT
TZOFFSETFROM:-0700
TZOFFSETTO:-0600
TZNAME:MDT
DTSTART:20250309T090000
END:DAYLIGHT
BEGIN:STANDARD
TZOFFSETFROM:-0600
TZOFFSETTO:-0700
TZNAME:MST
DTSTART:20251102T080000
END:STANDARD
END:VTIMEZONE
BEGIN:VEVENT
DTSTART;TZID=America/Denver:20240309T160000
DTEND;TZID=America/Denver:20240309T220000
DTSTAMP:20260421T033725
CREATED:20240305T211859Z
LAST-MODIFIED:20240307T015724Z
UID:4293-1710000000-1710021600@headwaterscrafthouse.com
SUMMARY:O'Malley Fight Night at Headwaters
DESCRIPTION:O’Malley Fight Night at Headwaters\nSaturday\, March 9th 4pm $5 Cover Charge\nAll 14 Fights on TV’s & Big Screen Starting at 4pm\nCome On In Early\, Outside Food is Always Welcome or Have Food Delivered\nHeadwaters Tap List: www.headwaterscrafthouse.com\n.\n.\n.\n.\n.\n.\n.\n.\n@headwaterscrafthouse @seanomalley_ufc @ufc @themightymo1073 #cidery #omalleyvsvera2 #omaley #vera2 #ufc #fightnight #helena #Montana #microbrew #mtbrew #beer #wine #cider
URL:https://headwaterscrafthouse.com/event/fightnight/
LOCATION:Headwaters Crafthouse\, 2125 N. Last Chance Gulch\, Helena\, MT\, 59601
CATEGORIES:Food Truck
ATTACH;FMTTYPE=image/png:https://headwaterscrafthouse.com/wp-content/uploads/2023/08/Copy-of-Food-Truck-Wednesday-SQ_20240306_174419_0000.png
END:VEVENT
BEGIN:VEVENT
DTSTART;TZID=America/Denver:20240507T170000
DTEND;TZID=America/Denver:20240507T193000
DTSTAMP:20260421T033725
CREATED:20240501T090600Z
LAST-MODIFIED:20240507T210316Z
UID:3869-1715101200-1715110200@headwaterscrafthouse.com
SUMMARY:Tap Takeover Tuesday- 2 Bassett Brewing
DESCRIPTION:🍺Tap Takeover Tuesday with 2 Basset Brewery\nMeet the Berry & Chris\, Swag Give-Aways\, Enjoy Crafted Bridger Flight\n🌟Taste Catering Food Truck 5pm \nFlight: \nPaws off Pilsner\nA pale refreshing lager crafted using Pilsner malt and Hallertau hops. You won’t want to share and will tell your friends to keep your Paws Off! \nBow Wow Wheat Ale\nBlood Orange American Wheat \nDrooligan Irish Red\nWho can resist a beer with a name like this? It is our version of an Irish Red Ale. A refreshing beer with an amber hue that comes from roasted barley. The flavor is slightly sweet with a hint of caramel\, lightly hopped and finishes clean and smooth. One of our favorites! \nFogging A Hazy IPA\nEnjoy a delicious pint of our award winning Hazy IPA made with Montana grown and malted barley along with flaked oats and malted white wheat. This combination of grains along with juicy citrus and tropical fruit flavored hops produce a hazy juicy pint that is a true palate pleaser. Foggin A\, I will have another! \n  \n. \n  \n. \n  \n. \n  \n#mtbrew #montanabeer #brewery #craftbeer #helena #montana #foodtruck #taptakeover #mtbrew #beer #cider #wine #montanalife #drinklocal #yellowstone #visithelenamt #visitmontana #taphouse #headwaters #crafthouse #microbrew #daydrinking #foodtruck #tapworks #taproom #brewery #events #thingstodo #Music @bridgerbrewing @gusto_distributing @taste_foodtruck_catering @headwaterscrafthouse
URL:https://headwaterscrafthouse.com/event/taptakeover/
LOCATION:Headwaters Crafthouse\, 2125 N. Last Chance Gulch\, Helena\, MT\, 59601
CATEGORIES:Food Truck,Tap Takeovers
ATTACH;FMTTYPE=image/png:https://headwaterscrafthouse.com/wp-content/uploads/2024/03/Tap-Takeover-_20240505_201258_0000.png
ORGANIZER;CN="Headwaters Crafthouse":MAILTO:headwaterscrafthouse@gmail.com
END:VEVENT
BEGIN:VEVENT
DTSTART;TZID=America/Denver:20240508T170000
DTEND;TZID=America/Denver:20240508T190000
DTSTAMP:20260421T033725
CREATED:20240502T023310Z
LAST-MODIFIED:20240507T205921Z
UID:4273-1715187600-1715194800@headwaterscrafthouse.com
SUMMARY:Food Truck Wednesday- Habana Cuban Food Truck
DESCRIPTION:Habana Food Truck Serving Cuban Food. Wednesday at Headwaters from 5-7 \nTap List: www.headwaterscrafthouse.com \n#foodtruck #livemusic #mtbrew #beer #cider #wine #montanalife #drinklocal #yellowstone #visithelenamt #visitmontana #taphouse #beer #brothers #helena #confluence #daydrinking #bullock #foodtruck #tapworks #music #montana #Headwaters #Crafthouse #taproom @headwaterscrafthouse @farmersstatebankmt
URL:https://headwaterscrafthouse.com/event/food-truck-wednesday/
LOCATION:MT
CATEGORIES:Food Truck
ATTACH;FMTTYPE=image/png:https://headwaterscrafthouse.com/wp-content/uploads/2023/12/Copy-of-Copy-of-Copy-of-Copy-of-Tap-Takeover-Food-Menu_20240110_163516_0000.png
ORGANIZER;CN="Headwaters Crafthouse":MAILTO:headwaterscrafthouse@gmail.com
END:VEVENT
BEGIN:VEVENT
DTSTART;TZID=America/Denver:20240509T170100
DTEND;TZID=America/Denver:20240509T193000
DTSTAMP:20260421T033725
CREATED:20240501T102320Z
LAST-MODIFIED:20240507T205822Z
UID:4211-1715274060-1715283000@headwaterscrafthouse.com
SUMMARY:Headwaters Food Truck Thursday-Taste Catering
DESCRIPTION:Headwaters Food Truck Thursday\nTaste Catering Open 5-7:30pm\nMenu Specials\nTap List: www.headwaterscrafthouse.com \n#Helena #foodtruck #holiday #visitmontana #beer #wine #growlerfills #Montana #mtbrew #montanabeer #microwbrew #beer #taptakeover #taphouse #beertime #beerbar #helena #visithelenamt #visitmontana #headwaters
URL:https://headwaterscrafthouse.com/event/headwaters-food-truck-thursday-2/
LOCATION:Headwaters Crafthouse\, 2125 N. Last Chance Gulch\, Helena\, MT\, 59601
CATEGORIES:Food Truck,Tap Takeovers
ATTACH;FMTTYPE=image/png:https://headwaterscrafthouse.com/wp-content/uploads/2023/10/Copy-of-Copy-of-Copy-of-Tap-Takeover-Food-Menu_20240218_195628_0000.png
ORGANIZER;CN="Headwaters Crafthouse":MAILTO:headwaterscrafthouse@gmail.com
END:VEVENT
BEGIN:VEVENT
DTSTART;TZID=America/Denver:20240512T140000
DTEND;TZID=America/Denver:20240512T140000
DTSTAMP:20260421T033725
CREATED:20240506T163142Z
LAST-MODIFIED:20240507T210934Z
UID:3822-1715522400-1715522400@headwaterscrafthouse.com
SUMMARY:Mother's Day Afternoon at Headwaters Crafthouse
DESCRIPTION:🌸Mother’s Day Afternoon at Headwaters Crafthouse. Wine Tasting of Doira & Caymus Wine 2-5m \n🎶Headwaters Sunday Live Music Series\nFeaturing Rod Morrison\nSunday\, May 12\nMusic Starts 3:30-6:30pm\n*Fresh Air Circulation and Filtered Ventilation*\n🌟Awsome Tradtion Cuban Food by Habana Food Truck Serving 3-6pm \n#mothersday #friday #weekend #livemusic #mtbrew #sunday #sundayfunday #wine #montanalife #drinklocal #visithelenamt #visitmontana #beer #helena #daydrinking #foodtruck #music #montana #graduation #Carroll #college
URL:https://headwaterscrafthouse.com/event/mothers-day/
LOCATION:Headwaters Crafthouse\, 2125 N. Last Chance Gulch\, Helena\, MT\, 59601
CATEGORIES:Food Truck,Live Music,Sunday Live Music Series
ATTACH;FMTTYPE=image/png:https://headwaterscrafthouse.com/wp-content/uploads/2023/05/Wine-Event_20240505_210339_0000.png
ORGANIZER;CN="Headwaters Crafthouse":MAILTO:headwaterscrafthouse@gmail.com
END:VEVENT
BEGIN:VEVENT
DTSTART;TZID=America/Denver:20250116T170000
DTEND;TZID=America/Denver:20250116T193000
DTSTAMP:20260421T033725
CREATED:20250104T023027Z
LAST-MODIFIED:20250104T023027Z
UID:4452-1737046800-1737055800@headwaterscrafthouse.com
SUMMARY:Dry January Tap Takeover Thursday- Back to the Mother Kombucha
DESCRIPTION:Headwaters Dry January Tap Takeover Thursday With Back to the Mother Kombucha from Missoula \nCelebrating Dry January 16th\, 5-7:30pm \nMeet the Owner\, Drew\, Enjoy a Flight of 4 Different Kombucha Brews\, & Samples of the New Kimchi Line Back to the Mothers is Creating \n  \n#dryjanuary #shoplocal #sober #Kombucha #nonalcoholic #taptakeover #mtbrew #montanabeer #microwbrew #beer #taptakeover #taphouse #beertime #beerbar #helena #foodtruck #visithelenamt #visitmontana #headwaters
URL:https://headwaterscrafthouse.com/event/dry-january-tap-takeover-thursday/
LOCATION:Headwaters Crafthouse\, 2125 N. Last Chance Gulch\, Helena\, MT\, 59601
CATEGORIES:Food Truck,Tap Takeovers
ATTACH;FMTTYPE=image/png:https://headwaterscrafthouse.com/wp-content/uploads/2025/01/Tap-Takeover-_20250103_184813_0000.png
ORGANIZER;CN="Headwaters Crafthouse":MAILTO:headwaterscrafthouse@gmail.com
END:VEVENT
BEGIN:VEVENT
DTSTART;TZID=America/Denver:20250128T170000
DTEND;TZID=America/Denver:20250128T193000
DTSTAMP:20260421T033725
CREATED:20250101T170054Z
LAST-MODIFIED:20250127T023250Z
UID:4063-1738083600-1738092600@headwaterscrafthouse.com
SUMMARY:Tap Takeover Tuesday with Copper Furrow
DESCRIPTION:Headwaters Tap Takeover with Copper Furrow \nJanuary 28th 5-7:30pm \n•Taste Catering Food Truck \nVisit with Nick the Brewer & Crafted Flight: \nSvetly Lezak Czech Light Lager \nSvetly Lezak is Czech for light lager and this style of beer is famous around the world for its drinkability. Herbal and floral nuances in the aroma compliment a crisp and refreshing finish to this authentically brewed beer. Mashed in a labor intensive manner\, naturally carbonated\, and lagered for 2 months make the CFB version of such a classic style worth a try. \n  \nWinter Warmer \nMore UK than just a Scottish style\, a Winter Warmer is just as it sounds: a big malty beer with a higher ABV content to stave off the cold weather outside. Dark fruit and bready notes give way to a slight note from the alcohol. \n  \nMagic Mexi IPL \nMagic Mexi is a mashup of our 2 favorite beers. It is brewed like our Mexican Lager\, but dry-hopped exactly like Wizard Juice. The result is a pretty dang good hoppy lager. (Cumin on French toast\, however? Not so good.) \nABV 4.9% \nIBU 19 \n  \nTmave Pivo Dark Czech Lager \nTmave; Czech for dark\, & Pivo; beer\, is a lager that showcases bread crust\, caramel\, and subtle coffee roast in the finish. Brewed with floor malted bohemian pils and black malt\, it is mashed in a labor intensive way\, boiled for an extended time with Cz saaz hops and RO water\, then fermented with Budvar yeast and naturally carbonated. Sort of a cousin to the Schwarzbier\, it’s not what most people think when you say Lezak… errrr lager. \n  \nMexican Chocolate Porter \nA robust porter with brown\, cara\, and lots of chocolate malt. When it’s fermented\, they add organic Cacao\, guajillo\, ancho peppers…and cinnamon. Herbaceous\, dark chocolate\, spice but no heat. Yet still a perfect choice for rounding out Montana’s chilly months. \n  \n#taptakeover #mtbrew #taproom #brewery #montanabeer #Helena #Montana #mtbrew #taproom #tapworks #Crafthouse #Headwaters #taphouse #beer #microbrew #wine #cider #foodtruck @headwaterscrafthouse @copperfurrowbrewing @taste_foodtruck_catering
URL:https://headwaterscrafthouse.com/event/taptakeover-2/
LOCATION:Headwaters Crafthouse\, 2125 N. Last Chance Gulch\, Helena\, MT\, 59601
CATEGORIES:Food Truck,Tap Takeovers
ATTACH;FMTTYPE=image/png:https://headwaterscrafthouse.com/wp-content/uploads/2025/01/Tap-Takeover-_20250126_184026_0000.png
ORGANIZER;CN="Headwaters Crafthouse":MAILTO:headwaterscrafthouse@gmail.com
END:VEVENT
BEGIN:VEVENT
DTSTART;TZID=America/Denver:20250128T170100
DTEND;TZID=America/Denver:20250128T193000
DTSTAMP:20260421T033725
CREATED:20250101T140039Z
LAST-MODIFIED:20250127T022925Z
UID:3575-1738083660-1738092600@headwaterscrafthouse.com
SUMMARY:Headwaters Food Truck Tuesday-Taste Catering
DESCRIPTION:Headwaters Food Truck Tuesday\nTaste Catering Open 5-7:30pm\nMenu Specials\nTap List: www.headwaterscrafthouse.com \n#Helena #foodtruck #holiday #visitmontana #beer #wine #growlerfills #Montana #mtbrew #montanabeer #microwbrew #beer #taptakeover #taphouse #beertime #beerbar #helena #visithelenamt #visitmontana #headwaters
URL:https://headwaterscrafthouse.com/event/foodtrucktuesday/
LOCATION:Headwaters Crafthouse\, 2125 N. Last Chance Gulch\, Helena\, MT\, 59601
CATEGORIES:Food Truck,Tap Takeovers
ATTACH;FMTTYPE=image/png:https://headwaterscrafthouse.com/wp-content/uploads/2021/11/png_20220321_103540_0000.png
ORGANIZER;CN="Headwaters Crafthouse":MAILTO:headwaterscrafthouse@gmail.com
END:VEVENT
END:VCALENDAR